BEGIN:VCALENDAR
VERSION:2.0
PRODID:-//Rae of Light Ministries - ECPv6.15.17//NONSGML v1.0//EN
CALSCALE:GREGORIAN
METHOD:PUBLISH
X-ORIGINAL-URL:https://www.raeoflightministries.com
X-WR-CALDESC:Events for Rae of Light Ministries
REFRESH-INTERVAL;VALUE=DURATION:PT1H
X-Robots-Tag:noindex
X-PUBLISHED-TTL:PT1H
BEGIN:VTIMEZONE
TZID:America/Los_Angeles
BEGIN:DAYLIGHT
TZOFFSETFROM:-0800
TZOFFSETTO:-0700
TZNAME:PDT
DTSTART:20220313T100000
END:DAYLIGHT
BEGIN:STANDARD
TZOFFSETFROM:-0700
TZOFFSETTO:-0800
TZNAME:PST
DTSTART:20221106T090000
END:STANDARD
BEGIN:DAYLIGHT
TZOFFSETFROM:-0800
TZOFFSETTO:-0700
TZNAME:PDT
DTSTART:20230312T100000
END:DAYLIGHT
BEGIN:STANDARD
TZOFFSETFROM:-0700
TZOFFSETTO:-0800
TZNAME:PST
DTSTART:20231105T090000
END:STANDARD
BEGIN:DAYLIGHT
TZOFFSETFROM:-0800
TZOFFSETTO:-0700
TZNAME:PDT
DTSTART:20240310T100000
END:DAYLIGHT
BEGIN:STANDARD
TZOFFSETFROM:-0700
TZOFFSETTO:-0800
TZNAME:PST
DTSTART:20241103T090000
END:STANDARD
END:VTIMEZONE
BEGIN:VEVENT
DTSTART;VALUE=DATE:20230704
DTEND;VALUE=DATE:20230709
DTSTAMP:20260424T210310
CREATED:20240403T014014Z
LAST-MODIFIED:20240403T014014Z
UID:10000487-1688428800-1688860799@www.raeoflightministries.com
SUMMARY:Ayapassana Retreat Thurs Jul 4 – Mon Jul 8 in Ashland\, OR
DESCRIPTION:[vc_row row_type=”row” use_row_as_full_screen_section=”no” type=”full_width” text_align=”left” background_animation=”none” css_animation=””][vc_column][vc_column_text]The Ayapassana Retreat is ministered by Shelleerae. Our annual Ayapassana Retreat is a special 5-day/4-night transformational experience combining sacred ceremonies and silent meditation. This unique spiritual retreat includes four sacred ceremonies; daily silent meditation; yin yoga; deliciously simple vegetarian meals; private time with facilitators for energy work and support; and noble silence throughout each day except for sharing circles.  \nParticipants will be determined through a lottery. We are doing a lottery because\, for the last two years\, Ayapassana has filled within the first two hours after announcing it. Names will be drawn in a lottery one week after the Ayapassana Retreat is announced to the ROLM membership via email. Once names have been drawn\, attendees will be notified and requested to make a $300 deposit to hold their spots (please do not make a deposit prior to the lottery drawing). \nPrerequisite: The Ayapassana Retreat is only open to current ROLM members who have previously joined us in at least 3 group sacred ceremonies (prior to requesting a spot in Ayapassana). \nTo join the lottery for a spot in the Ayapassana Retreat: email your full name\, email address\, and phone number to shelleerae@raeoflightministries.com \nNote: If the Ayapassana Retreat is listed as “FULL–waitlist only\,” you may join the waiting list by sending an email to info@raeoflightministries.com. Thank you.[/vc_column_text][/vc_column][/vc_row][vc_row row_type=”row” use_row_as_full_screen_section=”no” type=”full_width” text_align=”left” background_animation=”none” css_animation=””][vc_column width=”1/3″][/vc_column][/vc_row]
URL:https://www.raeoflightministries.com/event/ayapassana-retreat-thurs-jul-4-mon-jul-8-in-ashland-or/
LOCATION:Ashland\, OR
CATEGORIES:Group Sacred Ceremonies
END:VEVENT
END:VCALENDAR