BEGIN:VCALENDAR
VERSION:2.0
PRODID:-//Rae of Light Ministries - ECPv6.15.17//NONSGML v1.0//EN
CALSCALE:GREGORIAN
METHOD:PUBLISH
X-ORIGINAL-URL:https://www.raeoflightministries.com
X-WR-CALDESC:Events for Rae of Light Ministries
REFRESH-INTERVAL;VALUE=DURATION:PT1H
X-Robots-Tag:noindex
X-PUBLISHED-TTL:PT1H
BEGIN:VTIMEZONE
TZID:America/Los_Angeles
BEGIN:DAYLIGHT
TZOFFSETFROM:-0800
TZOFFSETTO:-0700
TZNAME:PDT
DTSTART:20250309T100000
END:DAYLIGHT
BEGIN:STANDARD
TZOFFSETFROM:-0700
TZOFFSETTO:-0800
TZNAME:PST
DTSTART:20251102T090000
END:STANDARD
BEGIN:DAYLIGHT
TZOFFSETFROM:-0800
TZOFFSETTO:-0700
TZNAME:PDT
DTSTART:20260308T100000
END:DAYLIGHT
BEGIN:STANDARD
TZOFFSETFROM:-0700
TZOFFSETTO:-0800
TZNAME:PST
DTSTART:20261101T090000
END:STANDARD
BEGIN:DAYLIGHT
TZOFFSETFROM:-0800
TZOFFSETTO:-0700
TZNAME:PDT
DTSTART:20270314T100000
END:DAYLIGHT
BEGIN:STANDARD
TZOFFSETFROM:-0700
TZOFFSETTO:-0800
TZNAME:PST
DTSTART:20271107T090000
END:STANDARD
END:VTIMEZONE
BEGIN:VEVENT
DTSTART;VALUE=DATE:20260123
DTEND;VALUE=DATE:20260125
DTSTAMP:20260423T044122
CREATED:20251130T180805Z
LAST-MODIFIED:20260108T150428Z
UID:10000514-1769126400-1769299199@www.raeoflightministries.com
SUMMARY:Group Sacred DAY Ceremonies Friday 1/23 and Saturday 1/24 Ashland\, OR
DESCRIPTION:[vc_row row_type=”row” use_row_as_full_screen_section=”no” type=”full_width” text_align=”left” background_animation=”none” css_animation=””][vc_column][vc_column_text css=””]These sacred DAY ceremonies will be ministered by Shelleerae. Minimum requested donation is $375. They start at 10am and run until approx 6pm (all participants are expected to stay for the entire duration). \nParticipating in two consecutive ceremonies has greater potential to facilitate awakening and deeper transformation\, however\, we recommend that participants follow their inner guidance whether to join us for one or two nights. \nNote: if there are no tickets left\, you may join the wait-list by sending an email to info@raeoflightministries.com. Thank you.[/vc_column_text][vc_empty_space height=”40px”][/vc_column][/vc_row][vc_row row_type=”row” use_row_as_full_screen_section=”no” type=”full_width” text_align=”left” background_animation=”none” css_animation=””][vc_column width=”2/3″][vc_column_text css=””] \nNEW APPLICANTS\nIn order to save your spot for Sacred Ceremony\, you must be a member of Rae of Light Ministries. If you are not yet a member\, you may apply here.[/vc_column_text][vc_empty_space height=”40px”][/vc_column][vc_column width=”1/3″][vc_empty_space height=”40px”]APPLY FOR MEMBERSHIP[vc_empty_space height=”40px”][/vc_column][/vc_row][vc_row row_type=”row” use_row_as_full_screen_section=”no” type=”full_width” text_align=”left” background_animation=”none” css_animation=””][vc_column width=”2/3″][vc_column_text css=””] \nCURRENT MEMBERS may make your $100 deposit to save your spot below:\n[/vc_column_text][vc_empty_space height=”40px”][/vc_column][vc_column width=”1/3″][vc_empty_space height=”40px”][/vc_column][/vc_row]
URL:https://www.raeoflightministries.com/event/group-sacred-ceremonies-day-friday-1-23-and-saturday-1-24-ashland-or-2/
LOCATION:Ashland\, OR
CATEGORIES:Group Sacred Ceremonies
END:VEVENT
END:VCALENDAR