BEGIN:VCALENDAR
VERSION:2.0
PRODID:-//Rae of Light Ministries - ECPv6.15.17//NONSGML v1.0//EN
CALSCALE:GREGORIAN
METHOD:PUBLISH
X-ORIGINAL-URL:https://www.raeoflightministries.com
X-WR-CALDESC:Events for Rae of Light Ministries
REFRESH-INTERVAL;VALUE=DURATION:PT1H
X-Robots-Tag:noindex
X-PUBLISHED-TTL:PT1H
BEGIN:VTIMEZONE
TZID:America/Los_Angeles
BEGIN:DAYLIGHT
TZOFFSETFROM:-0800
TZOFFSETTO:-0700
TZNAME:PDT
DTSTART:20220313T100000
END:DAYLIGHT
BEGIN:STANDARD
TZOFFSETFROM:-0700
TZOFFSETTO:-0800
TZNAME:PST
DTSTART:20221106T090000
END:STANDARD
BEGIN:DAYLIGHT
TZOFFSETFROM:-0800
TZOFFSETTO:-0700
TZNAME:PDT
DTSTART:20230312T100000
END:DAYLIGHT
BEGIN:STANDARD
TZOFFSETFROM:-0700
TZOFFSETTO:-0800
TZNAME:PST
DTSTART:20231105T090000
END:STANDARD
BEGIN:DAYLIGHT
TZOFFSETFROM:-0800
TZOFFSETTO:-0700
TZNAME:PDT
DTSTART:20240310T100000
END:DAYLIGHT
BEGIN:STANDARD
TZOFFSETFROM:-0700
TZOFFSETTO:-0800
TZNAME:PST
DTSTART:20241103T090000
END:STANDARD
BEGIN:DAYLIGHT
TZOFFSETFROM:-0800
TZOFFSETTO:-0700
TZNAME:PDT
DTSTART:20250309T100000
END:DAYLIGHT
BEGIN:STANDARD
TZOFFSETFROM:-0700
TZOFFSETTO:-0800
TZNAME:PST
DTSTART:20251102T090000
END:STANDARD
END:VTIMEZONE
BEGIN:VEVENT
DTSTART;VALUE=DATE:20230315
DTEND;VALUE=DATE:20230316
DTSTAMP:20260424T081914
CREATED:20221229T003843Z
LAST-MODIFIED:20221229T003843Z
UID:10000431-1678838400-1678924799@www.raeoflightministries.com
SUMMARY:Hummingbird Integration Circle Wed March 15 online via Zoom (7pm PST)
DESCRIPTION:The Hummingbird Integration Circle\, led by ROLM Ministers and Integration Guides\, is for active* members of the ROLM community to connect each month to receive support in integrating their ceremony experiences. It’s also an opportunity for active members to gather for sharing\, discussion\, inspiration\, and camaraderie. The Hummingbird Integration Circle takes place every third Wednesday of the month from 7pm–8:45pm Pacific Time. [*Active = members who have participated in ROLM sacred ceremonies within the last year or so.] \nSuggested donation of $5-$20 per person (no donation required). Donations benefit the ROLM General Fund or Scholarship Fund. Announcements with the Zoom link are emailed to ROLM members approximately one week before each Hummingbird Circle.\n[vc_row row_type=”row” use_row_as_full_screen_section=”no” type=”full_width” text_align=”left” background_animation=”none” css_animation=””][vc_column width=”1/3″][/vc_column][vc_column width=”1/3″][vc_column_text]
URL:https://www.raeoflightministries.com/event/hummingbird-integration-circle-wed-march-15-online-via-zoom-7pm-pst/
CATEGORIES:Hummingbird Integration Circles
END:VEVENT
BEGIN:VEVENT
DTSTART;VALUE=DATE:20230419
DTEND;VALUE=DATE:20230420
DTSTAMP:20260424T081914
CREATED:20221229T004013Z
LAST-MODIFIED:20221229T004013Z
UID:10000432-1681862400-1681948799@www.raeoflightministries.com
SUMMARY:Hummingbird Integration Circle Wed April 19 online via Zoom (7pm PST)
DESCRIPTION:The Hummingbird Integration Circle\, led by ROLM Ministers and Integration Guides\, is for active* members of the ROLM community to connect each month to receive support in integrating their ceremony experiences. It’s also an opportunity for active members to gather for sharing\, discussion\, inspiration\, and camaraderie. The Hummingbird Integration Circle takes place every third Wednesday of the month from 7pm–8:45pm Pacific Time. [*Active = members who have participated in ROLM sacred ceremonies within the last year or so.] \nSuggested donation of $5-$20 per person (no donation required). Donations benefit the ROLM General Fund or Scholarship Fund. Announcements with the Zoom link are emailed to ROLM members approximately one week before each Hummingbird Circle.\n[vc_row row_type=”row” use_row_as_full_screen_section=”no” type=”full_width” text_align=”left” background_animation=”none” css_animation=””][vc_column width=”1/3″][/vc_column][vc_column width=”1/3″][vc_column_text]
URL:https://www.raeoflightministries.com/event/hummingbird-integration-circle-wed-april-19-online-via-zoom-7pm-pst/
CATEGORIES:Hummingbird Integration Circles
END:VEVENT
BEGIN:VEVENT
DTSTART;VALUE=DATE:20230517
DTEND;VALUE=DATE:20230518
DTSTAMP:20260424T081914
CREATED:20221229T004047Z
LAST-MODIFIED:20221229T004047Z
UID:10000433-1684281600-1684367999@www.raeoflightministries.com
SUMMARY:Hummingbird Integration Circle Wed May 17 online via Zoom (7pm PST)
DESCRIPTION:The Hummingbird Integration Circle\, led by ROLM Ministers and Integration Guides\, is for active* members of the ROLM community to connect each month to receive support in integrating their ceremony experiences. It’s also an opportunity for active members to gather for sharing\, discussion\, inspiration\, and camaraderie. The Hummingbird Integration Circle takes place every third Wednesday of the month from 7pm–8:45pm Pacific Time. [*Active = members who have participated in ROLM sacred ceremonies within the last year or so.] \nSuggested donation of $5-$20 per person (no donation required). Donations benefit the ROLM General Fund or Scholarship Fund. Announcements with the Zoom link are emailed to ROLM members approximately one week before each Hummingbird Circle.\n[vc_row row_type=”row” use_row_as_full_screen_section=”no” type=”full_width” text_align=”left” background_animation=”none” css_animation=””][vc_column width=”1/3″][/vc_column][vc_column width=”1/3″][vc_column_text]
URL:https://www.raeoflightministries.com/event/hummingbird-integration-circle-wed-may-17-online-via-zoom-7pm-pst/
CATEGORIES:Hummingbird Integration Circles
END:VEVENT
BEGIN:VEVENT
DTSTART;VALUE=DATE:20230621
DTEND;VALUE=DATE:20230622
DTSTAMP:20260424T081914
CREATED:20221229T004126Z
LAST-MODIFIED:20230412T051607Z
UID:10000434-1687305600-1687391999@www.raeoflightministries.com
SUMMARY:Hummingbird Integration Circle Wed June 21 online via Zoom (7pm PST)
DESCRIPTION:The Hummingbird Integration Circle\, led by ROLM Ministers and Integration Guides\, is for active* members of the ROLM community to connect each month to receive support in integrating their ceremony experiences. It’s also an opportunity for active members to gather for sharing\, discussion\, inspiration\, and camaraderie. The Hummingbird Integration Circle takes place every third Wednesday of the month from 7pm–8:45pm Pacific Time. [*Active = members who have participated in ROLM sacred ceremonies within the last year or so.] \nSuggested donation of $5-$20 per person (no donation required). Donations benefit the ROLM General Fund or Scholarship Fund. Announcements with the Zoom link are emailed to ROLM members approximately one week before each Hummingbird Circle.\n[vc_row row_type=”row” use_row_as_full_screen_section=”no” type=”full_width” text_align=”left” background_animation=”none” css_animation=””][vc_column width=”1/3″][/vc_column][vc_column width=”1/3″][vc_column_text]
URL:https://www.raeoflightministries.com/event/hummingbird-integration-circle-wed-june-15-online-via-zoom-7pm-pst/
CATEGORIES:Hummingbird Integration Circles
END:VEVENT
BEGIN:VEVENT
DTSTART;VALUE=DATE:20230719
DTEND;VALUE=DATE:20230720
DTSTAMP:20260424T081914
CREATED:20221229T004209Z
LAST-MODIFIED:20221229T004209Z
UID:10000435-1689724800-1689811199@www.raeoflightministries.com
SUMMARY:Hummingbird Integration Circle Wed July 19 online via Zoom (7pm PST)
DESCRIPTION:The Hummingbird Integration Circle\, led by ROLM Ministers and Integration Guides\, is for active* members of the ROLM community to connect each month to receive support in integrating their ceremony experiences. It’s also an opportunity for active members to gather for sharing\, discussion\, inspiration\, and camaraderie. The Hummingbird Integration Circle takes place every third Wednesday of the month from 7pm–8:45pm Pacific Time. [*Active = members who have participated in ROLM sacred ceremonies within the last year or so.] \nSuggested donation of $5-$20 per person (no donation required). Donations benefit the ROLM General Fund or Scholarship Fund. Announcements with the Zoom link are emailed to ROLM members approximately one week before each Hummingbird Circle.\n[vc_row row_type=”row” use_row_as_full_screen_section=”no” type=”full_width” text_align=”left” background_animation=”none” css_animation=””][vc_column width=”1/3″][/vc_column][vc_column width=”1/3″][vc_column_text]
URL:https://www.raeoflightministries.com/event/hummingbird-integration-circle-wed-july-19-online-via-zoom-7pm-pst/
CATEGORIES:Hummingbird Integration Circles
END:VEVENT
BEGIN:VEVENT
DTSTART;VALUE=DATE:20230816
DTEND;VALUE=DATE:20230817
DTSTAMP:20260424T081914
CREATED:20221229T004244Z
LAST-MODIFIED:20221229T004244Z
UID:10000436-1692144000-1692230399@www.raeoflightministries.com
SUMMARY:Hummingbird Integration Circle Wed Aug 16 online via Zoom (7pm PST)
DESCRIPTION:The Hummingbird Integration Circle\, led by ROLM Ministers and Integration Guides\, is for active* members of the ROLM community to connect each month to receive support in integrating their ceremony experiences. It’s also an opportunity for active members to gather for sharing\, discussion\, inspiration\, and camaraderie. The Hummingbird Integration Circle takes place every third Wednesday of the month from 7pm–8:45pm Pacific Time. [*Active = members who have participated in ROLM sacred ceremonies within the last year or so.] \nSuggested donation of $5-$20 per person (no donation required). Donations benefit the ROLM General Fund or Scholarship Fund. Announcements with the Zoom link are emailed to ROLM members approximately one week before each Hummingbird Circle.\n[vc_row row_type=”row” use_row_as_full_screen_section=”no” type=”full_width” text_align=”left” background_animation=”none” css_animation=””][vc_column width=”1/3″][/vc_column][vc_column width=”1/3″][vc_column_text]
URL:https://www.raeoflightministries.com/event/hummingbird-integration-circle-wed-aug-16-online-via-zoom-7pm-pst/
CATEGORIES:Hummingbird Integration Circles
END:VEVENT
BEGIN:VEVENT
DTSTART;VALUE=DATE:20230920
DTEND;VALUE=DATE:20230921
DTSTAMP:20260424T081914
CREATED:20221229T004318Z
LAST-MODIFIED:20221229T004318Z
UID:10000437-1695168000-1695254399@www.raeoflightministries.com
SUMMARY:Hummingbird Integration Circle Wed Sept 20 online via Zoom (7pm PST)
DESCRIPTION:The Hummingbird Integration Circle\, led by ROLM Ministers and Integration Guides\, is for active* members of the ROLM community to connect each month to receive support in integrating their ceremony experiences. It’s also an opportunity for active members to gather for sharing\, discussion\, inspiration\, and camaraderie. The Hummingbird Integration Circle takes place every third Wednesday of the month from 7pm–8:45pm Pacific Time. [*Active = members who have participated in ROLM sacred ceremonies within the last year or so.] \nSuggested donation of $5-$20 per person (no donation required). Donations benefit the ROLM General Fund or Scholarship Fund. Announcements with the Zoom link are emailed to ROLM members approximately one week before each Hummingbird Circle.\n[vc_row row_type=”row” use_row_as_full_screen_section=”no” type=”full_width” text_align=”left” background_animation=”none” css_animation=””][vc_column width=”1/3″][/vc_column][vc_column width=”1/3″][vc_column_text]
URL:https://www.raeoflightministries.com/event/hummingbird-integration-circle-wed-sept-20-online-via-zoom-7pm-pst/
CATEGORIES:Hummingbird Integration Circles
END:VEVENT
BEGIN:VEVENT
DTSTART;VALUE=DATE:20231018
DTEND;VALUE=DATE:20231019
DTSTAMP:20260424T081914
CREATED:20221229T004350Z
LAST-MODIFIED:20221229T004350Z
UID:10000438-1697587200-1697673599@www.raeoflightministries.com
SUMMARY:Hummingbird Integration Circle Wed Oct 18 online via Zoom (7pm PST)
DESCRIPTION:The Hummingbird Integration Circle\, led by ROLM Ministers and Integration Guides\, is for active* members of the ROLM community to connect each month to receive support in integrating their ceremony experiences. It’s also an opportunity for active members to gather for sharing\, discussion\, inspiration\, and camaraderie. The Hummingbird Integration Circle takes place every third Wednesday of the month from 7pm–8:45pm Pacific Time. [*Active = members who have participated in ROLM sacred ceremonies within the last year or so.] \nSuggested donation of $5-$20 per person (no donation required). Donations benefit the ROLM General Fund or Scholarship Fund. Announcements with the Zoom link are emailed to ROLM members approximately one week before each Hummingbird Circle.\n[vc_row row_type=”row” use_row_as_full_screen_section=”no” type=”full_width” text_align=”left” background_animation=”none” css_animation=””][vc_column width=”1/3″][/vc_column][vc_column width=”1/3″][vc_column_text]
URL:https://www.raeoflightministries.com/event/hummingbird-integration-circle-wed-oct-18-online-via-zoom-7pm-pst/
CATEGORIES:Hummingbird Integration Circles
END:VEVENT
BEGIN:VEVENT
DTSTART;VALUE=DATE:20231115
DTEND;VALUE=DATE:20231116
DTSTAMP:20260424T081914
CREATED:20221229T004424Z
LAST-MODIFIED:20221229T004424Z
UID:10000439-1700006400-1700092799@www.raeoflightministries.com
SUMMARY:Hummingbird Integration Circle Wed Nov 15 online via Zoom (7pm PST)
DESCRIPTION:The Hummingbird Integration Circle\, led by ROLM Ministers and Integration Guides\, is for active* members of the ROLM community to connect each month to receive support in integrating their ceremony experiences. It’s also an opportunity for active members to gather for sharing\, discussion\, inspiration\, and camaraderie. The Hummingbird Integration Circle takes place every third Wednesday of the month from 7pm–8:45pm Pacific Time. [*Active = members who have participated in ROLM sacred ceremonies within the last year or so.] \nSuggested donation of $5-$20 per person (no donation required). Donations benefit the ROLM General Fund or Scholarship Fund. Announcements with the Zoom link are emailed to ROLM members approximately one week before each Hummingbird Circle.\n[vc_row row_type=”row” use_row_as_full_screen_section=”no” type=”full_width” text_align=”left” background_animation=”none” css_animation=””][vc_column width=”1/3″][/vc_column][vc_column width=”1/3″][vc_column_text]
URL:https://www.raeoflightministries.com/event/hummingbird-integration-circle-wed-nov-15-online-via-zoom-7pm-pst/
CATEGORIES:Hummingbird Integration Circles
END:VEVENT
BEGIN:VEVENT
DTSTART;VALUE=DATE:20231220
DTEND;VALUE=DATE:20231221
DTSTAMP:20260424T081914
CREATED:20221229T004455Z
LAST-MODIFIED:20221229T004455Z
UID:10000440-1703030400-1703116799@www.raeoflightministries.com
SUMMARY:Hummingbird Integration Circle Wed Dec 20 online via Zoom (7pm PST)
DESCRIPTION:The Hummingbird Integration Circle\, led by ROLM Ministers and Integration Guides\, is for active* members of the ROLM community to connect each month to receive support in integrating their ceremony experiences. It’s also an opportunity for active members to gather for sharing\, discussion\, inspiration\, and camaraderie. The Hummingbird Integration Circle takes place every third Wednesday of the month from 7pm–8:45pm Pacific Time. [*Active = members who have participated in ROLM sacred ceremonies within the last year or so.] \nSuggested donation of $5-$20 per person (no donation required). Donations benefit the ROLM General Fund or Scholarship Fund. Announcements with the Zoom link are emailed to ROLM members approximately one week before each Hummingbird Circle.\n[vc_row row_type=”row” use_row_as_full_screen_section=”no” type=”full_width” text_align=”left” background_animation=”none” css_animation=””][vc_column width=”1/3″][/vc_column][vc_column width=”1/3″][vc_column_text]
URL:https://www.raeoflightministries.com/event/hummingbird-integration-circle-wed-dec-20-online-via-zoom-7pm-pst/
CATEGORIES:Hummingbird Integration Circles
END:VEVENT
BEGIN:VEVENT
DTSTART;VALUE=DATE:20240117
DTEND;VALUE=DATE:20240118
DTSTAMP:20260424T081914
CREATED:20231104T040336Z
LAST-MODIFIED:20231104T040336Z
UID:10000476-1705449600-1705535999@www.raeoflightministries.com
SUMMARY:Hummingbird Integration Circle Wed Jan 17 online via Zoom (7pm PST)
DESCRIPTION:The Hummingbird Integration Circle\, led by ROLM Ministers and Integration Guides\, is for active* members of the ROLM community to connect each month to receive support in integrating their ceremony experiences. It’s also an opportunity for active members to gather for sharing\, discussion\, inspiration\, and camaraderie. The Hummingbird Integration Circle takes place every third Wednesday of the month from 7pm–8:45pm Pacific Time. [*Active = members who have participated in ROLM sacred ceremonies within the last year or so.] \nSuggested donation of $5-$20 per person (no donation required). Donations benefit the ROLM General Fund or Scholarship Fund. Announcements with the Zoom link are emailed to ROLM members approximately one week before each Hummingbird Circle.\n[vc_row row_type=”row” use_row_as_full_screen_section=”no” type=”full_width” text_align=”left” background_animation=”none” css_animation=””][vc_column width=”1/3″][/vc_column][vc_column width=”1/3″][vc_column_text]
URL:https://www.raeoflightministries.com/event/hummingbird-integration-circle-wed-jan-17-online-via-zoom-7pm-pst/
CATEGORIES:Hummingbird Integration Circles
END:VEVENT
BEGIN:VEVENT
DTSTART;VALUE=DATE:20240221
DTEND;VALUE=DATE:20240222
DTSTAMP:20260424T081914
CREATED:20231104T040300Z
LAST-MODIFIED:20231104T040300Z
UID:10000477-1708473600-1708559999@www.raeoflightministries.com
SUMMARY:Hummingbird Integration Circle Wed Feb 21 online via Zoom (7pm PST)
DESCRIPTION:The Hummingbird Integration Circle\, led by ROLM Ministers and Integration Guides\, is for active* members of the ROLM community to connect each month to receive support in integrating their ceremony experiences. It’s also an opportunity for active members to gather for sharing\, discussion\, inspiration\, and camaraderie. The Hummingbird Integration Circle takes place every third Wednesday of the month from 7pm–8:45pm Pacific Time. [*Active = members who have participated in ROLM sacred ceremonies within the last year or so.] \nSuggested donation of $5-$20 per person (no donation required). Donations benefit the ROLM General Fund or Scholarship Fund. Announcements with the Zoom link are emailed to ROLM members approximately one week before each Hummingbird Circle.\n[vc_row row_type=”row” use_row_as_full_screen_section=”no” type=”full_width” text_align=”left” background_animation=”none” css_animation=””][vc_column width=”1/3″][/vc_column][vc_column width=”1/3″][vc_column_text]
URL:https://www.raeoflightministries.com/event/hummingbird-integration-circle-wed-feb-21-online-via-zoom-7pm-pst/
CATEGORIES:Hummingbird Integration Circles
END:VEVENT
BEGIN:VEVENT
DTSTART;VALUE=DATE:20240320
DTEND;VALUE=DATE:20240321
DTSTAMP:20260424T081914
CREATED:20231104T040135Z
LAST-MODIFIED:20231104T040135Z
UID:10000478-1710892800-1710979199@www.raeoflightministries.com
SUMMARY:Hummingbird Integration Circle Wed Mar 20 online via Zoom (7pm PST)
DESCRIPTION:The Hummingbird Integration Circle\, led by ROLM Ministers and Integration Guides\, is for active* members of the ROLM community to connect each month to receive support in integrating their ceremony experiences. It’s also an opportunity for active members to gather for sharing\, discussion\, inspiration\, and camaraderie. The Hummingbird Integration Circle takes place every third Wednesday of the month from 7pm–8:45pm Pacific Time. [*Active = members who have participated in ROLM sacred ceremonies within the last year or so.] \nSuggested donation of $5-$20 per person (no donation required). Donations benefit the ROLM General Fund or Scholarship Fund. Announcements with the Zoom link are emailed to ROLM members approximately one week before each Hummingbird Circle.\n[vc_row row_type=”row” use_row_as_full_screen_section=”no” type=”full_width” text_align=”left” background_animation=”none” css_animation=””][vc_column width=”1/3″][/vc_column][vc_column width=”1/3″][vc_column_text]
URL:https://www.raeoflightministries.com/event/hummingbird-integration-circle-wed-mar-20-online-via-zoom-7pm-pst/
CATEGORIES:Hummingbird Integration Circles
END:VEVENT
END:VCALENDAR