BEGIN:VCALENDAR
VERSION:2.0
PRODID:-//Rae of Light Ministries - ECPv6.15.17//NONSGML v1.0//EN
CALSCALE:GREGORIAN
METHOD:PUBLISH
X-WR-CALNAME:Rae of Light Ministries
X-ORIGINAL-URL:https://www.raeoflightministries.com
X-WR-CALDESC:Events for Rae of Light Ministries
REFRESH-INTERVAL;VALUE=DURATION:PT1H
X-Robots-Tag:noindex
X-PUBLISHED-TTL:PT1H
BEGIN:VTIMEZONE
TZID:America/Los_Angeles
BEGIN:DAYLIGHT
TZOFFSETFROM:-0800
TZOFFSETTO:-0700
TZNAME:PDT
DTSTART:20200308T100000
END:DAYLIGHT
BEGIN:STANDARD
TZOFFSETFROM:-0700
TZOFFSETTO:-0800
TZNAME:PST
DTSTART:20201101T090000
END:STANDARD
BEGIN:DAYLIGHT
TZOFFSETFROM:-0800
TZOFFSETTO:-0700
TZNAME:PDT
DTSTART:20210314T100000
END:DAYLIGHT
BEGIN:STANDARD
TZOFFSETFROM:-0700
TZOFFSETTO:-0800
TZNAME:PST
DTSTART:20211107T090000
END:STANDARD
BEGIN:DAYLIGHT
TZOFFSETFROM:-0800
TZOFFSETTO:-0700
TZNAME:PDT
DTSTART:20220313T100000
END:DAYLIGHT
BEGIN:STANDARD
TZOFFSETFROM:-0700
TZOFFSETTO:-0800
TZNAME:PST
DTSTART:20221106T090000
END:STANDARD
END:VTIMEZONE
BEGIN:VEVENT
DTSTART;VALUE=DATE:20210915
DTEND;VALUE=DATE:20210916
DTSTAMP:20260424T143600
CREATED:20210714T024926Z
LAST-MODIFIED:20210714T024926Z
UID:10000278-1631664000-1631750399@www.raeoflightministries.com
SUMMARY:Hummingbird Integration Circle Wed Sept 15 online via Zoom (7pm PST)
DESCRIPTION:The Hummingbird Integration Circle\, led by ROLM Facilitators and Integration Guides\, is for active members of the ROLM community to connect each month to receive support in integrating their experiences with Mamacita. It’s also an opportunity for active members to gather for sharing\, discussion\, inspiration\, and camaraderie. The Hummingbird Integration Circle takes place every third Wednesday of the month from 7pm–8:45pm Pacific Time. \nSuggested donation of $5-$20 per person (no donation required). Donations benefit the fund to create a ROLM retreat center. Announcements with the Zoom link are emailed to ROLM members one week before each Hummingbird Circle.\n[vc_row row_type=”row” use_row_as_full_screen_section=”no” type=”full_width” text_align=”left” background_animation=”none” css_animation=””][vc_column width=”1/3″][/vc_column][vc_column width=”1/3″][vc_column_text]
URL:https://www.raeoflightministries.com/event/hummingbird-integration-circle-wed-sept-15-online-via-zoom-7pm-pst/
CATEGORIES:Hummingbird Integration Circles
END:VEVENT
BEGIN:VEVENT
DTSTART;VALUE=DATE:20210818
DTEND;VALUE=DATE:20210819
DTSTAMP:20260424T143600
CREATED:20210714T024833Z
LAST-MODIFIED:20210714T025002Z
UID:10000347-1629244800-1629331199@www.raeoflightministries.com
SUMMARY:Hummingbird Integration Circle Wed August 18 online via Zoom (7pm PST)
DESCRIPTION:The Hummingbird Integration Circle\, led by ROLM Facilitators and Integration Guides\, is for active members of the ROLM community to connect each month to receive support in integrating their experiences with Mamacita. It’s also an opportunity for active members to gather for sharing\, discussion\, inspiration\, and camaraderie. The Hummingbird Integration Circle takes place every third Wednesday of the month from 7pm–8:45pm Pacific Time. \nSuggested donation of $5-$20 per person (no donation required). Donations benefit the fund to create a ROLM retreat center. Announcements with the Zoom link are emailed to ROLM members one week before each Hummingbird Circle.\n[vc_row row_type=”row” use_row_as_full_screen_section=”no” type=”full_width” text_align=”left” background_animation=”none” css_animation=””][vc_column width=”1/3″][/vc_column][vc_column width=”1/3″][vc_column_text]
URL:https://www.raeoflightministries.com/event/hummingbird-integration-circle-wed-august-18-7pm-online-via-zoom/
CATEGORIES:Hummingbird Integration Circles
END:VEVENT
BEGIN:VEVENT
DTSTART;VALUE=DATE:20210721
DTEND;VALUE=DATE:20210722
DTSTAMP:20260424T143600
CREATED:20210714T023242Z
LAST-MODIFIED:20210714T025040Z
UID:10000346-1626825600-1626911999@www.raeoflightministries.com
SUMMARY:Hummingbird Integration Circle Wed July 21 online via Zoom (7pm PST)
DESCRIPTION:The Hummingbird Integration Circle\, led by ROLM Facilitators and Integration Guides\, is for active members of the ROLM community to connect each month to receive support in integrating their experiences with Mamacita. It’s also an opportunity for active members to gather for sharing\, discussion\, inspiration\, and camaraderie. The Hummingbird Integration Circle takes place every third Wednesday of the month from 7pm–8:45pm Pacific Time. \nSuggested donation of $5-$20 per person (no donation required). Donations benefit the fund to create a ROLM retreat center. Announcements with the Zoom link are emailed to ROLM members one week before each Hummingbird Circle.\n[vc_row row_type=”row” use_row_as_full_screen_section=”no” type=”full_width” text_align=”left” background_animation=”none” css_animation=””][vc_column width=”1/3″][/vc_column][vc_column width=”1/3″][vc_column_text]
URL:https://www.raeoflightministries.com/event/hummingbird-circle/
CATEGORIES:Hummingbird Integration Circles
END:VEVENT
END:VCALENDAR