BEGIN:VCALENDAR
VERSION:2.0
PRODID:-//Rae of Light Ministries - ECPv6.15.17//NONSGML v1.0//EN
CALSCALE:GREGORIAN
METHOD:PUBLISH
X-ORIGINAL-URL:https://www.raeoflightministries.com
X-WR-CALDESC:Events for Rae of Light Ministries
REFRESH-INTERVAL;VALUE=DURATION:PT1H
X-Robots-Tag:noindex
X-PUBLISHED-TTL:PT1H
BEGIN:VTIMEZONE
TZID:America/Los_Angeles
BEGIN:DAYLIGHT
TZOFFSETFROM:-0800
TZOFFSETTO:-0700
TZNAME:PDT
DTSTART:20250309T100000
END:DAYLIGHT
BEGIN:STANDARD
TZOFFSETFROM:-0700
TZOFFSETTO:-0800
TZNAME:PST
DTSTART:20251102T090000
END:STANDARD
BEGIN:DAYLIGHT
TZOFFSETFROM:-0800
TZOFFSETTO:-0700
TZNAME:PDT
DTSTART:20260308T100000
END:DAYLIGHT
BEGIN:STANDARD
TZOFFSETFROM:-0700
TZOFFSETTO:-0800
TZNAME:PST
DTSTART:20261101T090000
END:STANDARD
BEGIN:DAYLIGHT
TZOFFSETFROM:-0800
TZOFFSETTO:-0700
TZNAME:PDT
DTSTART:20270314T100000
END:DAYLIGHT
BEGIN:STANDARD
TZOFFSETFROM:-0700
TZOFFSETTO:-0800
TZNAME:PST
DTSTART:20271107T090000
END:STANDARD
END:VTIMEZONE
BEGIN:VEVENT
DTSTART;VALUE=DATE:20260911
DTEND;VALUE=DATE:20260914
DTSTAMP:20260423T135917
CREATED:20260304T200908Z
LAST-MODIFIED:20260304T200908Z
UID:10000520-1789084800-1789343999@www.raeoflightministries.com
SUMMARY:Executive Retreat Sept 11-13 2026
DESCRIPTION:[vc_row row_type=”row” use_row_as_full_screen_section=”no” type=”full_width” text_align=”left” background_animation=”none” css_animation=””][vc_column][vc_column_text css=””]Before you go any further\, please note: \nTRANSFER/REFUND POLICY: All ceremony deposits are non-refundable. A one-time transfer of 50% of your payment is available if you give at least 14 days’ notice before your EXECUTIVE RETREAT DATE. If less than 14 days\, transfer of payment is no longer available. All payments expire after the first transfer or\, if unused\, one year from date of initial payment (they will then be transferred to the ROLM scholarship fund). \nThis Executive Retreat is open to the public with prior approval required – contact us for details. These ceremonies\, are held on Friday and Saturday nights; we ask that you commit to both ceremonies. The retreat offers an array of amenities: private and semi-private sleeping quarters\, exquisite meals\, multiple integration support sessions\, sauna\, cold plunge\, swimming\, and a hot tub. Comfy pads for ceremony include sheets\, blankets\, and pillows. \nOvernight ceremonies commence at 4:30 pm and conclude around 12:00 pm the following day after a shared breakfast and circle of reflections. To secure a spot\, we ask for the full donation $2575 in advance. These retreats are led by Shellee Rae with support from a proficient team of Guardians.[/vc_column_text][/vc_column][/vc_row][vc_row row_type=”row” use_row_as_full_screen_section=”no” type=”full_width” text_align=”left” background_animation=”none” css_animation=””][vc_column width=”1/3″][/vc_column][/vc_row]
URL:https://www.raeoflightministries.com/event/executive-retreat-sept-11-13-2026-2/
LOCATION:Aptos\, CA
CATEGORIES:Executive Retreat
END:VEVENT
END:VCALENDAR