BEGIN:VCALENDAR
VERSION:2.0
PRODID:-//Rae of Light Ministries - ECPv6.15.17//NONSGML v1.0//EN
CALSCALE:GREGORIAN
METHOD:PUBLISH
X-ORIGINAL-URL:https://www.raeoflightministries.com
X-WR-CALDESC:Events for Rae of Light Ministries
REFRESH-INTERVAL;VALUE=DURATION:PT1H
X-Robots-Tag:noindex
X-PUBLISHED-TTL:PT1H
BEGIN:VTIMEZONE
TZID:America/Los_Angeles
BEGIN:DAYLIGHT
TZOFFSETFROM:-0800
TZOFFSETTO:-0700
TZNAME:PDT
DTSTART:20220313T100000
END:DAYLIGHT
BEGIN:STANDARD
TZOFFSETFROM:-0700
TZOFFSETTO:-0800
TZNAME:PST
DTSTART:20221106T090000
END:STANDARD
BEGIN:DAYLIGHT
TZOFFSETFROM:-0800
TZOFFSETTO:-0700
TZNAME:PDT
DTSTART:20230312T100000
END:DAYLIGHT
BEGIN:STANDARD
TZOFFSETFROM:-0700
TZOFFSETTO:-0800
TZNAME:PST
DTSTART:20231105T090000
END:STANDARD
BEGIN:DAYLIGHT
TZOFFSETFROM:-0800
TZOFFSETTO:-0700
TZNAME:PDT
DTSTART:20240310T100000
END:DAYLIGHT
BEGIN:STANDARD
TZOFFSETFROM:-0700
TZOFFSETTO:-0800
TZNAME:PST
DTSTART:20241103T090000
END:STANDARD
END:VTIMEZONE
BEGIN:VEVENT
DTSTART;VALUE=DATE:20230602
DTEND;VALUE=DATE:20230603
DTSTAMP:20260425T084509
CREATED:20230412T051228Z
LAST-MODIFIED:20230518T201519Z
UID:10000454-1685664000-1685750399@www.raeoflightministries.com
SUMMARY:Group Sacred Ceremony Fri June 2 (overnight) in Sebastopol\, CA
DESCRIPTION:[vc_row row_type=”row” use_row_as_full_screen_section=”no” type=”full_width” text_align=”left” background_animation=”none” css_animation=””][vc_column][vc_column_text]This ceremony will be ministered by Anu. Overnight group ceremony runs from 4:30pm to 11:00am the following morning (all participants are expected to stay for the entire duration until closing at 11am). \nThis is one ceremony offered in a weekend of two ceremonies (Friday night and Saturday night). Participating in two consecutive ceremonies has greater potential to facilitate awakening and deeper transformation\, however\, we recommend that participants follow their inner guidance whether to join us for one or two nights. \nNote: if this ceremony is listed as “FULL–waitlist only\,” please do NOT make a deposit to hold a spot. You may join the waiting list by sending an email to info@raeoflightministries.com. Thank you.[/vc_column_text][/vc_column][/vc_row][vc_row row_type=”row” use_row_as_full_screen_section=”no” type=”full_width” text_align=”left” background_animation=”none” css_animation=””][vc_column width=”1/3″][/vc_column][vc_column width=”1/3″][vc_column_text] \nNEW APPLICANTS\n[/vc_column_text]APPLY FOR MEMBERSHIP[vc_empty_space height=”40px”][/vc_column][vc_column width=”1/3″][vc_column_text] \nCURRENT MEMBERS\n[/vc_column_text]SAVE YOUR SPOT[vc_empty_space height=”40px”][/vc_column][/vc_row]
URL:https://www.raeoflightministries.com/event/group-sacred-ceremony-fri-june-2-overnight-in-sebastopol-ca/
LOCATION:Sebastopol\, CA
CATEGORIES:Group Sacred Ceremonies
END:VEVENT
BEGIN:VEVENT
DTSTART;VALUE=DATE:20230603
DTEND;VALUE=DATE:20230604
DTSTAMP:20260425T084509
CREATED:20230412T051304Z
LAST-MODIFIED:20230412T051304Z
UID:10000455-1685750400-1685836799@www.raeoflightministries.com
SUMMARY:Group Sacred Ceremony Sat June 3 (overnight) in Sebastopol\, CA
DESCRIPTION:[vc_row row_type=”row” use_row_as_full_screen_section=”no” type=”full_width” text_align=”left” background_animation=”none” css_animation=””][vc_column][vc_column_text]This ceremony will be ministered by Anu. Overnight group ceremony runs from 4:30pm to 11:00am the following morning (all participants are expected to stay for the entire duration until closing at 11am). \nThis is one ceremony offered in a weekend of two ceremonies (Friday night and Saturday night). Participating in two consecutive ceremonies has greater potential to facilitate awakening and deeper transformation\, however\, we recommend that participants follow their inner guidance whether to join us for one or two nights. \nNote: if this ceremony is listed as “FULL–waitlist only\,” please do NOT make a deposit to hold a spot. You may join the waiting list by sending an email to info@raeoflightministries.com. Thank you.[/vc_column_text][/vc_column][/vc_row][vc_row row_type=”row” use_row_as_full_screen_section=”no” type=”full_width” text_align=”left” background_animation=”none” css_animation=””][vc_column width=”1/3″][/vc_column][vc_column width=”1/3″][vc_column_text] \nNEW APPLICANTS\n[/vc_column_text]APPLY FOR MEMBERSHIP[vc_empty_space height=”40px”][/vc_column][vc_column width=”1/3″][vc_column_text] \nCURRENT MEMBERS\n[/vc_column_text]SAVE YOUR SPOT[vc_empty_space height=”40px”][/vc_column][/vc_row]
URL:https://www.raeoflightministries.com/event/group-sacred-ceremony-sat-june-3-overnight-in-sebastopol-ca/
LOCATION:Sebastopol\, CA
CATEGORIES:Group Sacred Ceremonies
END:VEVENT
BEGIN:VEVENT
DTSTART;VALUE=DATE:20230609
DTEND;VALUE=DATE:20230610
DTSTAMP:20260425T084509
CREATED:20230412T051409Z
LAST-MODIFIED:20230412T051409Z
UID:10000456-1686268800-1686355199@www.raeoflightministries.com
SUMMARY:Group Sacred Ceremony Fri June 9 (overnight) in Ashland\, OR
DESCRIPTION:[vc_row row_type=”row” use_row_as_full_screen_section=”no” type=”full_width” text_align=”left” background_animation=”none” css_animation=””][vc_column][vc_column_text]This ceremony will be ministered by Shelleerae. Overnight group ceremony runs from 4:30pm to 11:00am the following morning (all participants are expected to stay for the entire duration until closing at 11am). \nThis is one ceremony offered in a weekend of two ceremonies (Friday night and Saturday night). Participating in two consecutive ceremonies has greater potential to facilitate awakening and deeper transformation\, however\, we recommend that participants follow their inner guidance whether to join us for one or two nights. \nNote: if this ceremony is listed as “FULL–waitlist only\,” please do NOT make a deposit to hold a spot. You may join the waiting list by sending an email to info@raeoflightministries.com. Thank you.[/vc_column_text][/vc_column][/vc_row][vc_row row_type=”row” use_row_as_full_screen_section=”no” type=”full_width” text_align=”left” background_animation=”none” css_animation=””][vc_column width=”1/3″][/vc_column][vc_column width=”1/3″][vc_column_text] \nNEW APPLICANTS\n[/vc_column_text]APPLY FOR MEMBERSHIP[vc_empty_space height=”40px”][/vc_column][vc_column width=”1/3″][vc_column_text] \nCURRENT MEMBERS\n[/vc_column_text]SAVE YOUR SPOT[vc_empty_space height=”40px”][/vc_column][/vc_row]
URL:https://www.raeoflightministries.com/event/group-sacred-ceremony-fri-june-9-overnight-in-ashland-or/
LOCATION:Ashland\, OR
CATEGORIES:Group Sacred Ceremonies
END:VEVENT
BEGIN:VEVENT
DTSTART;VALUE=DATE:20230610
DTEND;VALUE=DATE:20230611
DTSTAMP:20260425T084509
CREATED:20230412T051433Z
LAST-MODIFIED:20230412T051434Z
UID:10000457-1686355200-1686441599@www.raeoflightministries.com
SUMMARY:Group Sacred Ceremony Sat June 10 (overnight) in Ashland\, OR
DESCRIPTION:[vc_row row_type=”row” use_row_as_full_screen_section=”no” type=”full_width” text_align=”left” background_animation=”none” css_animation=””][vc_column][vc_column_text]This ceremony will be ministered by Shelleerae. Overnight group ceremony runs from 4:30pm to 11:00am the following morning (all participants are expected to stay for the entire duration until closing at 11am). \nThis is one ceremony offered in a weekend of two ceremonies (Friday night and Saturday night). Participating in two consecutive ceremonies has greater potential to facilitate awakening and deeper transformation\, however\, we recommend that participants follow their inner guidance whether to join us for one or two nights. \nNote: if this ceremony is listed as “FULL–waitlist only\,” please do NOT make a deposit to hold a spot. You may join the waiting list by sending an email to info@raeoflightministries.com. Thank you.[/vc_column_text][/vc_column][/vc_row][vc_row row_type=”row” use_row_as_full_screen_section=”no” type=”full_width” text_align=”left” background_animation=”none” css_animation=””][vc_column width=”1/3″][/vc_column][vc_column width=”1/3″][vc_column_text] \nNEW APPLICANTS\n[/vc_column_text]APPLY FOR MEMBERSHIP[vc_empty_space height=”40px”][/vc_column][vc_column width=”1/3″][vc_column_text] \nCURRENT MEMBERS\n[/vc_column_text]SAVE YOUR SPOT[vc_empty_space height=”40px”][/vc_column][/vc_row]
URL:https://www.raeoflightministries.com/event/group-sacred-ceremony-sat-june-10-overnight-in-ashland-or/
LOCATION:Ashland\, OR
CATEGORIES:Group Sacred Ceremonies
END:VEVENT
BEGIN:VEVENT
DTSTART;VALUE=DATE:20230621
DTEND;VALUE=DATE:20230622
DTSTAMP:20260425T084509
CREATED:20221229T004126Z
LAST-MODIFIED:20230412T051607Z
UID:10000434-1687305600-1687391999@www.raeoflightministries.com
SUMMARY:Hummingbird Integration Circle Wed June 21 online via Zoom (7pm PST)
DESCRIPTION:The Hummingbird Integration Circle\, led by ROLM Ministers and Integration Guides\, is for active* members of the ROLM community to connect each month to receive support in integrating their ceremony experiences. It’s also an opportunity for active members to gather for sharing\, discussion\, inspiration\, and camaraderie. The Hummingbird Integration Circle takes place every third Wednesday of the month from 7pm–8:45pm Pacific Time. [*Active = members who have participated in ROLM sacred ceremonies within the last year or so.] \nSuggested donation of $5-$20 per person (no donation required). Donations benefit the ROLM General Fund or Scholarship Fund. Announcements with the Zoom link are emailed to ROLM members approximately one week before each Hummingbird Circle.\n[vc_row row_type=”row” use_row_as_full_screen_section=”no” type=”full_width” text_align=”left” background_animation=”none” css_animation=””][vc_column width=”1/3″][/vc_column][vc_column width=”1/3″][vc_column_text]
URL:https://www.raeoflightministries.com/event/hummingbird-integration-circle-wed-june-15-online-via-zoom-7pm-pst/
CATEGORIES:Hummingbird Integration Circles
END:VEVENT
BEGIN:VEVENT
DTSTART;VALUE=DATE:20230630
DTEND;VALUE=DATE:20230701
DTSTAMP:20260425T084509
CREATED:20230412T051754Z
LAST-MODIFIED:20230606T230442Z
UID:10000458-1688083200-1688169599@www.raeoflightministries.com
SUMMARY:Group Sacred Ceremony Fri June 30 (overnight) in Seattle area (WA) (FULL-waitlist only)
DESCRIPTION:[vc_row row_type=”row” use_row_as_full_screen_section=”no” type=”full_width” text_align=”left” background_animation=”none” css_animation=””][vc_column][vc_column_text]This ceremony will be ministered by Kevin. Overnight group ceremony runs from 4:30pm to 11:00am the following morning (all participants are expected to stay for the entire duration until closing at 11am). \nThis is one ceremony offered in a weekend of two ceremonies (Friday night and Saturday night). Participating in two consecutive ceremonies has greater potential to facilitate awakening and deeper transformation\, however\, we recommend that participants follow their inner guidance whether to join us for one or two nights. \nNote: if this ceremony is listed as “FULL–waitlist only\,” please do NOT make a deposit to hold a spot. You may join the waiting list by sending an email to info@raeoflightministries.com. Thank you.[/vc_column_text][/vc_column][/vc_row][vc_row row_type=”row” use_row_as_full_screen_section=”no” type=”full_width” text_align=”left” background_animation=”none” css_animation=””][vc_column width=”1/3″][/vc_column][vc_column width=”1/3″][vc_column_text] \nNEW APPLICANTS\n[/vc_column_text]APPLY FOR MEMBERSHIP[vc_empty_space height=”40px”][/vc_column][vc_column width=”1/3″][vc_column_text] \nCURRENT MEMBERS\n[/vc_column_text]SAVE YOUR SPOT[vc_empty_space height=”40px”][/vc_column][/vc_row]
URL:https://www.raeoflightministries.com/event/group-sacred-ceremony-fri-june-30-overnight-in-seattle-area-wa/
LOCATION:Encinitas\, CA\, WA
CATEGORIES:Group Sacred Ceremonies
END:VEVENT
END:VCALENDAR