BEGIN:VCALENDAR
VERSION:2.0
PRODID:-//Rae of Light Ministries - ECPv6.15.17//NONSGML v1.0//EN
CALSCALE:GREGORIAN
METHOD:PUBLISH
X-ORIGINAL-URL:https://www.raeoflightministries.com
X-WR-CALDESC:Events for Rae of Light Ministries
REFRESH-INTERVAL;VALUE=DURATION:PT1H
X-Robots-Tag:noindex
X-PUBLISHED-TTL:PT1H
BEGIN:VTIMEZONE
TZID:America/Los_Angeles
BEGIN:DAYLIGHT
TZOFFSETFROM:-0800
TZOFFSETTO:-0700
TZNAME:PDT
DTSTART:20220313T100000
END:DAYLIGHT
BEGIN:STANDARD
TZOFFSETFROM:-0700
TZOFFSETTO:-0800
TZNAME:PST
DTSTART:20221106T090000
END:STANDARD
BEGIN:DAYLIGHT
TZOFFSETFROM:-0800
TZOFFSETTO:-0700
TZNAME:PDT
DTSTART:20230312T100000
END:DAYLIGHT
BEGIN:STANDARD
TZOFFSETFROM:-0700
TZOFFSETTO:-0800
TZNAME:PST
DTSTART:20231105T090000
END:STANDARD
BEGIN:DAYLIGHT
TZOFFSETFROM:-0800
TZOFFSETTO:-0700
TZNAME:PDT
DTSTART:20240310T100000
END:DAYLIGHT
BEGIN:STANDARD
TZOFFSETFROM:-0700
TZOFFSETTO:-0800
TZNAME:PST
DTSTART:20241103T090000
END:STANDARD
END:VTIMEZONE
BEGIN:VEVENT
DTSTART;VALUE=DATE:20230728
DTEND;VALUE=DATE:20230729
DTSTAMP:20260425T195723
CREATED:20230412T052629Z
LAST-MODIFIED:20230627T193700Z
UID:10000463-1690502400-1690588799@www.raeoflightministries.com
SUMMARY:Group Sacred Ceremony Fri July 28 (overnight) in Seattle area (WA) (FULL-waitlist only)
DESCRIPTION:[vc_row row_type=”row” use_row_as_full_screen_section=”no” type=”full_width” text_align=”left” background_animation=”none” css_animation=””][vc_column][vc_column_text]This ceremony will be ministered by Kevin. Overnight group ceremony runs from 4:30pm to 11:00am the following morning (all participants are expected to stay for the entire duration until closing at 11am). \nThis is one ceremony offered in a weekend of two ceremonies (Friday night and Saturday night). Participating in two consecutive ceremonies has greater potential to facilitate awakening and deeper transformation\, however\, we recommend that participants follow their inner guidance whether to join us for one or two nights. \nNote: if this ceremony is listed as “FULL–waitlist only\,” please do NOT make a deposit to hold a spot. You may join the waiting list by sending an email to info@raeoflightministries.com. Thank you.[/vc_column_text][/vc_column][/vc_row][vc_row row_type=”row” use_row_as_full_screen_section=”no” type=”full_width” text_align=”left” background_animation=”none” css_animation=””][vc_column width=”1/3″][/vc_column][vc_column width=”1/3″][vc_column_text] \nNEW APPLICANTS\n[/vc_column_text]APPLY FOR MEMBERSHIP[vc_empty_space height=”40px”][/vc_column][vc_column width=”1/3″][vc_column_text] \nCURRENT MEMBERS\n[/vc_column_text]SAVE YOUR SPOT[vc_empty_space height=”40px”][/vc_column][/vc_row]
URL:https://www.raeoflightministries.com/event/group-sacred-ceremony-fri-july-28-overnight-in-seattle-area-wa/
LOCATION:Encinitas\, CA\, WA
CATEGORIES:Group Sacred Ceremonies
END:VEVENT
BEGIN:VEVENT
DTSTART;VALUE=DATE:20230728
DTEND;VALUE=DATE:20230729
DTSTAMP:20260425T195723
CREATED:20230621T230113Z
LAST-MODIFIED:20230726T181144Z
UID:10000465-1690502400-1690588799@www.raeoflightministries.com
SUMMARY:Group Sacred Ceremony Fri July 28 (overnight) in Ashland\, OR (FULL-waitlist only)
DESCRIPTION:[vc_row row_type=”row” use_row_as_full_screen_section=”no” type=”full_width” text_align=”left” background_animation=”none” css_animation=””][vc_column][vc_column_text]This ceremony will be ministered by Shelleerae. Overnight group ceremony runs from 4:30pm to 11:00am the following morning (all participants are expected to stay for the entire duration until closing at 11am). \nThis is one ceremony offered in a weekend of two ceremonies (Friday night and Saturday night). Participating in two consecutive ceremonies has greater potential to facilitate awakening and deeper transformation\, however\, we recommend that participants follow their inner guidance whether to join us for one or two nights. \nNote: if this ceremony is listed as “FULL–waitlist only\,” please do NOT make a deposit to hold a spot. You may join the waiting list by sending an email to info@raeoflightministries.com. Thank you.[/vc_column_text][/vc_column][/vc_row][vc_row row_type=”row” use_row_as_full_screen_section=”no” type=”full_width” text_align=”left” background_animation=”none” css_animation=””][vc_column width=”1/3″][/vc_column][vc_column width=”1/3″][vc_column_text] \nNEW APPLICANTS\n[/vc_column_text]APPLY FOR MEMBERSHIP[vc_empty_space height=”40px”][/vc_column][vc_column width=”1/3″][vc_column_text] \nCURRENT MEMBERS\n[/vc_column_text]SAVE YOUR SPOT[vc_empty_space height=”40px”][/vc_column][/vc_row]
URL:https://www.raeoflightministries.com/event/group-sacred-ceremony-fri-july-28-overnight-in-ashland-or/
LOCATION:Ashland\, OR
CATEGORIES:Group Sacred Ceremonies
END:VEVENT
BEGIN:VEVENT
DTSTART;VALUE=DATE:20230729
DTEND;VALUE=DATE:20230730
DTSTAMP:20260425T195723
CREATED:20230412T052721Z
LAST-MODIFIED:20230627T193740Z
UID:10000464-1690588800-1690675199@www.raeoflightministries.com
SUMMARY:Group Sacred Ceremony Sat July 29 (overnight) in Seattle area (WA) (FULL-waitlist only)
DESCRIPTION:[vc_row row_type=”row” use_row_as_full_screen_section=”no” type=”full_width” text_align=”left” background_animation=”none” css_animation=””][vc_column][vc_column_text]This ceremony will be ministered by Kevin. Overnight group ceremony runs from 4:30pm to 11:00am the following morning (all participants are expected to stay for the entire duration until closing at 11am). \nThis is one ceremony offered in a weekend of two ceremonies (Friday night and Saturday night). Participating in two consecutive ceremonies has greater potential to facilitate awakening and deeper transformation\, however\, we recommend that participants follow their inner guidance whether to join us for one or two nights. \nNote: if this ceremony is listed as “FULL–waitlist only\,” please do NOT make a deposit to hold a spot. You may join the waiting list by sending an email to info@raeoflightministries.com. Thank you.[/vc_column_text][/vc_column][/vc_row][vc_row row_type=”row” use_row_as_full_screen_section=”no” type=”full_width” text_align=”left” background_animation=”none” css_animation=””][vc_column width=”1/3″][/vc_column][vc_column width=”1/3″][vc_column_text] \nNEW APPLICANTS\n[/vc_column_text]APPLY FOR MEMBERSHIP[vc_empty_space height=”40px”][/vc_column][vc_column width=”1/3″][vc_column_text] \nCURRENT MEMBERS\n[/vc_column_text]SAVE YOUR SPOT[vc_empty_space height=”40px”][/vc_column][/vc_row]
URL:https://www.raeoflightministries.com/event/group-sacred-ceremony-sat-july-29-overnight-in-seattle-area-wa/
LOCATION:Encinitas\, CA\, WA
CATEGORIES:Group Sacred Ceremonies
END:VEVENT
BEGIN:VEVENT
DTSTART;VALUE=DATE:20230729
DTEND;VALUE=DATE:20230730
DTSTAMP:20260425T195723
CREATED:20230621T230034Z
LAST-MODIFIED:20230726T225418Z
UID:10000466-1690588800-1690675199@www.raeoflightministries.com
SUMMARY:Group Sacred Ceremony Sat July 29 (overnight) in Ashland\, OR (FULL-waitlist only)
DESCRIPTION:[vc_row row_type=”row” use_row_as_full_screen_section=”no” type=”full_width” text_align=”left” background_animation=”none” css_animation=””][vc_column][vc_column_text]This ceremony will be ministered by Shelleerae. Overnight group ceremony runs from 4:30pm to 11:00am the following morning (all participants are expected to stay for the entire duration until closing at 11am). \nThis is one ceremony offered in a weekend of two ceremonies (Friday night and Saturday night). Participating in two consecutive ceremonies has greater potential to facilitate awakening and deeper transformation\, however\, we recommend that participants follow their inner guidance whether to join us for one or two nights. \nNote: if this ceremony is listed as “FULL–waitlist only\,” please do NOT make a deposit to hold a spot. You may join the waiting list by sending an email to info@raeoflightministries.com. Thank you.[/vc_column_text][/vc_column][/vc_row][vc_row row_type=”row” use_row_as_full_screen_section=”no” type=”full_width” text_align=”left” background_animation=”none” css_animation=””][vc_column width=”1/3″][/vc_column][vc_column width=”1/3″][vc_column_text] \nNEW APPLICANTS\n[/vc_column_text]APPLY FOR MEMBERSHIP[vc_empty_space height=”40px”][/vc_column][vc_column width=”1/3″][vc_column_text] \nCURRENT MEMBERS\n[/vc_column_text]SAVE YOUR SPOT[vc_empty_space height=”40px”][/vc_column][/vc_row]
URL:https://www.raeoflightministries.com/event/group-sacred-ceremony-sat-july-29-overnight-in-ashland-or/
LOCATION:Ashland\, OR
CATEGORIES:Group Sacred Ceremonies
END:VEVENT
END:VCALENDAR