BEGIN:VCALENDAR
VERSION:2.0
PRODID:-//Rae of Light Ministries - ECPv6.15.17//NONSGML v1.0//EN
CALSCALE:GREGORIAN
METHOD:PUBLISH
X-WR-CALNAME:Rae of Light Ministries
X-ORIGINAL-URL:https://www.raeoflightministries.com
X-WR-CALDESC:Events for Rae of Light Ministries
REFRESH-INTERVAL;VALUE=DURATION:PT1H
X-Robots-Tag:noindex
X-PUBLISHED-TTL:PT1H
BEGIN:VTIMEZONE
TZID:America/Los_Angeles
BEGIN:DAYLIGHT
TZOFFSETFROM:-0800
TZOFFSETTO:-0700
TZNAME:PDT
DTSTART:20250309T100000
END:DAYLIGHT
BEGIN:STANDARD
TZOFFSETFROM:-0700
TZOFFSETTO:-0800
TZNAME:PST
DTSTART:20251102T090000
END:STANDARD
BEGIN:DAYLIGHT
TZOFFSETFROM:-0800
TZOFFSETTO:-0700
TZNAME:PDT
DTSTART:20260308T100000
END:DAYLIGHT
BEGIN:STANDARD
TZOFFSETFROM:-0700
TZOFFSETTO:-0800
TZNAME:PST
DTSTART:20261101T090000
END:STANDARD
BEGIN:DAYLIGHT
TZOFFSETFROM:-0800
TZOFFSETTO:-0700
TZNAME:PDT
DTSTART:20270314T100000
END:DAYLIGHT
BEGIN:STANDARD
TZOFFSETFROM:-0700
TZOFFSETTO:-0800
TZNAME:PST
DTSTART:20271107T090000
END:STANDARD
END:VTIMEZONE
BEGIN:VEVENT
DTSTART;VALUE=DATE:20260117
DTEND;VALUE=DATE:20260119
DTSTAMP:20260423T043948
CREATED:20250912T013728Z
LAST-MODIFIED:20251130T180235Z
UID:10000509-1768608000-1768780799@www.raeoflightministries.com
SUMMARY:Group Sacred DAY Ceremonies Saturday & Sunday 1/17 and 18 Encinitas\, CA - CANCELED
DESCRIPTION:[vc_row row_type=”row” use_row_as_full_screen_section=”no” type=”full_width” text_align=”left” background_animation=”none” css_animation=””][vc_column][vc_column_text css=””]Before you go any further\, please note: TRANSFER/REFUND POLICY: All ceremony deposits are non-refundable. A one-time transfer of your ceremony deposit is available if you give at least 14 days’ notice before your reserved ceremony date. If less than 14 days\, transfer of ceremony deposit is no longer available. All deposits expire after the first transfer or\, if unused\, one year from date of initial payment (they will then be transferred to the ROLM scholarship fund). \nThese sacred ceremonies will be ministered by Shelleerae. Minimum requested donation for group ceremony is $375. Day Ceremonies start at 10a and run until approx 6p (all participants are expected to stay for the entire duration). \nParticipating in two consecutive ceremonies has greater potential to facilitate awakening and deeper transformation\, however\, we recommend that participants follow their inner guidance whether to join us for one or two ceremonies. \nNote: if this ceremony is listed as “FULL–waitlist only\,” please do NOT make a deposit to hold a spot. You may join the waiting list by sending an email to info@raeoflightministries.com. Thank you.[/vc_column_text][vc_empty_space height=”40px”][/vc_column][/vc_row][vc_row row_type=”row” use_row_as_full_screen_section=”no” type=”full_width” text_align=”left” background_animation=”none” css_animation=””][vc_column width=”2/3″][vc_column_text css=””] \nNEW APPLICANTS\nIn order to save your spot for Sacred Ceremony\, you must be a member of Rae of Light Ministries. If you are not yet a member\, you may apply here.[/vc_column_text][vc_empty_space height=”40px”][/vc_column][vc_column width=”1/3″][vc_empty_space height=”40px”]APPLY FOR MEMBERSHIP[vc_empty_space height=”40px”][/vc_column][/vc_row][vc_row row_type=”row” use_row_as_full_screen_section=”no” type=”full_width” text_align=”left” background_animation=”none” css_animation=””][vc_column width=”2/3″][vc_column_text css=””] \nCURRENT MEMBERS may make your $100 deposit to save your spot below:\n[/vc_column_text][vc_empty_space height=”40px”][/vc_column][vc_column width=”1/3″][vc_empty_space height=”40px”][/vc_column][/vc_row]
URL:https://www.raeoflightministries.com/event/group-sacred-day-ceremonies-saturday-sunday-1-17-and-18-encinitas-ca/
LOCATION:Encinitas\, CA
CATEGORIES:Group Sacred Ceremonies
END:VEVENT
END:VCALENDAR