BEGIN:VCALENDAR
VERSION:2.0
PRODID:-//Rae of Light Ministries - ECPv6.15.17//NONSGML v1.0//EN
CALSCALE:GREGORIAN
METHOD:PUBLISH
X-WR-CALNAME:Rae of Light Ministries
X-ORIGINAL-URL:https://www.raeoflightministries.com
X-WR-CALDESC:Events for Rae of Light Ministries
REFRESH-INTERVAL;VALUE=DURATION:PT1H
X-Robots-Tag:noindex
X-PUBLISHED-TTL:PT1H
BEGIN:VTIMEZONE
TZID:America/Los_Angeles
BEGIN:DAYLIGHT
TZOFFSETFROM:-0800
TZOFFSETTO:-0700
TZNAME:PDT
DTSTART:20210314T100000
END:DAYLIGHT
BEGIN:STANDARD
TZOFFSETFROM:-0700
TZOFFSETTO:-0800
TZNAME:PST
DTSTART:20211107T090000
END:STANDARD
BEGIN:DAYLIGHT
TZOFFSETFROM:-0800
TZOFFSETTO:-0700
TZNAME:PDT
DTSTART:20220313T100000
END:DAYLIGHT
BEGIN:STANDARD
TZOFFSETFROM:-0700
TZOFFSETTO:-0800
TZNAME:PST
DTSTART:20221106T090000
END:STANDARD
BEGIN:DAYLIGHT
TZOFFSETFROM:-0800
TZOFFSETTO:-0700
TZNAME:PDT
DTSTART:20230312T100000
END:DAYLIGHT
BEGIN:STANDARD
TZOFFSETFROM:-0700
TZOFFSETTO:-0800
TZNAME:PST
DTSTART:20231105T090000
END:STANDARD
END:VTIMEZONE
BEGIN:VEVENT
DTSTART;VALUE=DATE:20220528
DTEND;VALUE=DATE:20220529
DTSTAMP:20260425T052727
CREATED:20220311T192816Z
LAST-MODIFIED:20220526T044003Z
UID:10000380-1653696000-1653782399@www.raeoflightministries.com
SUMMARY:Group Sacred Ceremony Sat May 28 (overnight) in Auburn\, WA
DESCRIPTION:Minister for this ceremony: Kevin. New location: beautiful retreat center on acreage. Overnight group ceremony runs from 4:30pm to 11:00am the following morning (all participants are expected to stay for the entire duration until closing at 11am). Note: if this ceremony is listed as “FULL–waitlist only\,” please do NOT make a deposit to hold a spot. You may join the waiting list by sending an email to info@raeoflightministries.com. Thank you.\n[vc_row row_type=”row” use_row_as_full_screen_section=”no” type=”full_width” text_align=”left” background_animation=”none” css_animation=””][vc_column width=”1/3″][/vc_column][vc_column width=”1/3″][vc_column_text] \nNEW MEMBERS\n[/vc_column_text]APPLY TO PARTICIPATE[vc_empty_space height=”40px”][/vc_column][vc_column width=”1/3″][vc_column_text] \nRETURNING MEMBERS\n[/vc_column_text]SAVE YOUR SPOT[vc_empty_space height=”40px”][/vc_column][/vc_row]
URL:https://www.raeoflightministries.com/event/group-sacred-ceremony-sat-may-28-overnight-in-auburn-wa/
LOCATION:Auburn\, WA
CATEGORIES:Group Sacred Ceremonies
END:VEVENT
BEGIN:VEVENT
DTSTART;VALUE=DATE:20220527
DTEND;VALUE=DATE:20220528
DTSTAMP:20260425T052727
CREATED:20220311T192747Z
LAST-MODIFIED:20220526T043638Z
UID:10000379-1653609600-1653695999@www.raeoflightministries.com
SUMMARY:Group Sacred Ceremony Fri May 27 (overnight) in Auburn\, WA
DESCRIPTION:Minister for this ceremony: Kevin. New location: beautiful retreat center on acreage. Overnight group ceremony runs from 4:30pm to 11:00am the following morning (all participants are expected to stay for the entire duration until closing at 11am). Note: if this ceremony is listed as “FULL–waitlist only\,” please do NOT make a deposit to hold a spot. You may join the waiting list by sending an email to info@raeoflightministries.com. Thank you.\n[vc_row row_type=”row” use_row_as_full_screen_section=”no” type=”full_width” text_align=”left” background_animation=”none” css_animation=””][vc_column width=”1/3″][/vc_column][vc_column width=”1/3″][vc_column_text] \nNEW MEMBERS\n[/vc_column_text]APPLY TO PARTICIPATE[vc_empty_space height=”40px”][/vc_column][vc_column width=”1/3″][vc_column_text] \nRETURNING MEMBERS\n[/vc_column_text]SAVE YOUR SPOT[vc_empty_space height=”40px”][/vc_column][/vc_row]
URL:https://www.raeoflightministries.com/event/group-sacred-ceremony-fri-may-27-overnight-in-auburn-wa/
LOCATION:Auburn\, WA
CATEGORIES:Group Sacred Ceremonies
END:VEVENT
END:VCALENDAR