BEGIN:VCALENDAR
VERSION:2.0
PRODID:-//Rae of Light Ministries - ECPv6.15.17//NONSGML v1.0//EN
CALSCALE:GREGORIAN
METHOD:PUBLISH
X-WR-CALNAME:Rae of Light Ministries
X-ORIGINAL-URL:https://www.raeoflightministries.com
X-WR-CALDESC:Events for Rae of Light Ministries
REFRESH-INTERVAL;VALUE=DURATION:PT1H
X-Robots-Tag:noindex
X-PUBLISHED-TTL:PT1H
BEGIN:VTIMEZONE
TZID:America/Los_Angeles
BEGIN:DAYLIGHT
TZOFFSETFROM:-0800
TZOFFSETTO:-0700
TZNAME:PDT
DTSTART:20220313T100000
END:DAYLIGHT
BEGIN:STANDARD
TZOFFSETFROM:-0700
TZOFFSETTO:-0800
TZNAME:PST
DTSTART:20221106T090000
END:STANDARD
BEGIN:DAYLIGHT
TZOFFSETFROM:-0800
TZOFFSETTO:-0700
TZNAME:PDT
DTSTART:20230312T100000
END:DAYLIGHT
BEGIN:STANDARD
TZOFFSETFROM:-0700
TZOFFSETTO:-0800
TZNAME:PST
DTSTART:20231105T090000
END:STANDARD
BEGIN:DAYLIGHT
TZOFFSETFROM:-0800
TZOFFSETTO:-0700
TZNAME:PDT
DTSTART:20240310T100000
END:DAYLIGHT
BEGIN:STANDARD
TZOFFSETFROM:-0700
TZOFFSETTO:-0800
TZNAME:PST
DTSTART:20241103T090000
END:STANDARD
END:VTIMEZONE
BEGIN:VEVENT
DTSTART;VALUE=DATE:20230520
DTEND;VALUE=DATE:20230521
DTSTAMP:20260423T163343
CREATED:20230312T020331Z
LAST-MODIFIED:20230512T182129Z
UID:10000452-1684540800-1684627199@www.raeoflightministries.com
SUMMARY:Group Sacred Ceremony Sat May 20 (overnight) in Seattle area (WA) (FULL-waitlist only)
DESCRIPTION:[vc_row row_type=”row” use_row_as_full_screen_section=”no” type=”full_width” text_align=”left” background_animation=”none” css_animation=””][vc_column][vc_column_text]This ceremony will be ministered by Shelleerae. Overnight group ceremony runs from 4:30pm to 11:00am the following morning (all participants are expected to stay for the entire duration until closing at 11am). \nThis is one ceremony offered in a weekend of two ceremonies (Friday night and Saturday night). Participating in two consecutive ceremonies has greater potential to facilitate awakening and deeper transformation\, however\, we recommend that participants follow their inner guidance whether to join us for one or two nights. \nNote: if this ceremony is listed as “FULL–waitlist only\,” please do NOT make a deposit to hold a spot. You may join the waiting list by sending an email to info@raeoflightministries.com. Thank you.[/vc_column_text][/vc_column][/vc_row][vc_row row_type=”row” use_row_as_full_screen_section=”no” type=”full_width” text_align=”left” background_animation=”none” css_animation=””][vc_column width=”1/3″][/vc_column][vc_column width=”1/3″][vc_column_text] \nNEW APPLICANTS\n[/vc_column_text]APPLY FOR MEMBERSHIP[vc_empty_space height=”40px”][/vc_column][vc_column width=”1/3″][vc_column_text] \nCURRENT MEMBERS\n[/vc_column_text]SAVE YOUR SPOT[vc_empty_space height=”40px”][/vc_column][/vc_row]
URL:https://www.raeoflightministries.com/event/group-sacred-ceremony-sat-may-20-overnight-in-seattle-area-wa/
LOCATION:Encinitas\, CA\, WA
CATEGORIES:Group Sacred Ceremonies
END:VEVENT
BEGIN:VEVENT
DTSTART;VALUE=DATE:20230519
DTEND;VALUE=DATE:20230520
DTSTAMP:20260423T163343
CREATED:20230312T020301Z
LAST-MODIFIED:20230512T014055Z
UID:10000451-1684454400-1684540799@www.raeoflightministries.com
SUMMARY:Group Sacred Ceremony Fri May 19 (overnight) in Seattle area (WA) (FULL-waitlist only)
DESCRIPTION:[vc_row row_type=”row” use_row_as_full_screen_section=”no” type=”full_width” text_align=”left” background_animation=”none” css_animation=””][vc_column][vc_column_text]This ceremony will be ministered by Shelleerae. Overnight group ceremony runs from 4:30pm to 11:00am the following morning (all participants are expected to stay for the entire duration until closing at 11am). \nThis is one ceremony offered in a weekend of two ceremonies (Friday night and Saturday night). Participating in two consecutive ceremonies has greater potential to facilitate awakening and deeper transformation\, however\, we recommend that participants follow their inner guidance whether to join us for one or two nights. \nNote: if this ceremony is listed as “FULL–waitlist only\,” please do NOT make a deposit to hold a spot. You may join the waiting list by sending an email to info@raeoflightministries.com. Thank you.[/vc_column_text][/vc_column][/vc_row][vc_row row_type=”row” use_row_as_full_screen_section=”no” type=”full_width” text_align=”left” background_animation=”none” css_animation=””][vc_column width=”1/3″][/vc_column][vc_column width=”1/3″][vc_column_text] \nNEW APPLICANTS\n[/vc_column_text]APPLY FOR MEMBERSHIP[vc_empty_space height=”40px”][/vc_column][vc_column width=”1/3″][vc_column_text] \nCURRENT MEMBERS\n[/vc_column_text]SAVE YOUR SPOT[vc_empty_space height=”40px”][/vc_column][/vc_row]
URL:https://www.raeoflightministries.com/event/group-sacred-ceremony-fri-may-19-overnight-in-seattle-area-wa/
LOCATION:Encinitas\, CA\, WA
CATEGORIES:Group Sacred Ceremonies
END:VEVENT
BEGIN:VEVENT
DTSTART;VALUE=DATE:20230429
DTEND;VALUE=DATE:20230430
DTSTAMP:20260423T163343
CREATED:20230312T015828Z
LAST-MODIFIED:20230424T023811Z
UID:10000449-1682726400-1682812799@www.raeoflightministries.com
SUMMARY:Group Sacred Ceremony Sat April 29 (overnight) in Seattle area (WA) (FULL-waitlist only)
DESCRIPTION:[vc_row row_type=”row” use_row_as_full_screen_section=”no” type=”full_width” text_align=”left” background_animation=”none” css_animation=””][vc_column][vc_column_text]This ceremony will be ministered by Kevin. Overnight group ceremony runs from 4:30pm to 11:00am the following morning (all participants are expected to stay for the entire duration until closing at 11am). \nThis is one ceremony offered in a weekend of two ceremonies (Friday night and Saturday night). Participating in two consecutive ceremonies has greater potential to facilitate awakening and deeper transformation\, however\, we recommend that participants follow their inner guidance whether to join us for one or two nights. \nNote: if this ceremony is listed as “FULL–waitlist only\,” please do NOT make a deposit to hold a spot. You may join the waiting list by sending an email to info@raeoflightministries.com. Thank you.[/vc_column_text][/vc_column][/vc_row][vc_row row_type=”row” use_row_as_full_screen_section=”no” type=”full_width” text_align=”left” background_animation=”none” css_animation=””][vc_column width=”1/3″][/vc_column][vc_column width=”1/3″][vc_column_text] \nNEW APPLICANTS\n[/vc_column_text]APPLY FOR MEMBERSHIP[vc_empty_space height=”40px”][/vc_column][vc_column width=”1/3″][vc_column_text] \nCURRENT MEMBERS\n[/vc_column_text]SAVE YOUR SPOT[vc_empty_space height=”40px”][/vc_column][/vc_row]
URL:https://www.raeoflightministries.com/event/group-sacred-ceremony-sat-april-29-overnight-in-seattle-area-wa/
LOCATION:Encinitas\, CA\, WA
CATEGORIES:Group Sacred Ceremonies
END:VEVENT
BEGIN:VEVENT
DTSTART;VALUE=DATE:20230428
DTEND;VALUE=DATE:20230429
DTSTAMP:20260423T163343
CREATED:20230312T015757Z
LAST-MODIFIED:20230312T015757Z
UID:10000448-1682640000-1682726399@www.raeoflightministries.com
SUMMARY:Group Sacred Ceremony Fri April 28 (overnight) in Seattle area (WA)
DESCRIPTION:[vc_row row_type=”row” use_row_as_full_screen_section=”no” type=”full_width” text_align=”left” background_animation=”none” css_animation=””][vc_column][vc_column_text]This ceremony will be ministered by Kevin. Overnight group ceremony runs from 4:30pm to 11:00am the following morning (all participants are expected to stay for the entire duration until closing at 11am). \nThis is one ceremony offered in a weekend of two ceremonies (Friday night and Saturday night). Participating in two consecutive ceremonies has greater potential to facilitate awakening and deeper transformation\, however\, we recommend that participants follow their inner guidance whether to join us for one or two nights. \nNote: if this ceremony is listed as “FULL–waitlist only\,” please do NOT make a deposit to hold a spot. You may join the waiting list by sending an email to info@raeoflightministries.com. Thank you.[/vc_column_text][/vc_column][/vc_row][vc_row row_type=”row” use_row_as_full_screen_section=”no” type=”full_width” text_align=”left” background_animation=”none” css_animation=””][vc_column width=”1/3″][/vc_column][vc_column width=”1/3″][vc_column_text] \nNEW APPLICANTS\n[/vc_column_text]APPLY FOR MEMBERSHIP[vc_empty_space height=”40px”][/vc_column][vc_column width=”1/3″][vc_column_text] \nCURRENT MEMBERS\n[/vc_column_text]SAVE YOUR SPOT[vc_empty_space height=”40px”][/vc_column][/vc_row]
URL:https://www.raeoflightministries.com/event/group-sacred-ceremony-fri-april-28-overnight-in-seattle-area-wa/
LOCATION:Encinitas\, CA\, WA
CATEGORIES:Group Sacred Ceremonies
END:VEVENT
BEGIN:VEVENT
DTSTART;VALUE=DATE:20230325
DTEND;VALUE=DATE:20230326
DTSTAMP:20260423T163343
CREATED:20221229T022946Z
LAST-MODIFIED:20230301T044209Z
UID:10000358-1679702400-1679788799@www.raeoflightministries.com
SUMMARY:Group Sacred Ceremony Sat March 25 (overnight) in Seattle area (WA) (FULL-waitlist only)
DESCRIPTION:[vc_row row_type=”row” use_row_as_full_screen_section=”no” type=”full_width” text_align=”left” background_animation=”none” css_animation=””][vc_column][vc_column_text]This ceremony will be ministered by Kevin. Overnight group ceremony runs from 4:30pm to 11:00am the following morning (all participants are expected to stay for the entire duration until closing at 11am). \nThis is one ceremony offered in a weekend of two ceremonies (Friday night and Saturday night). Participating in two consecutive ceremonies has greater potential to facilitate awakening and deeper transformation\, however\, we recommend that participants follow their inner guidance whether to join us for one or two nights. \nNote: if this ceremony is listed as “FULL–waitlist only\,” please do NOT make a deposit to hold a spot. You may join the waiting list by sending an email to info@raeoflightministries.com. Thank you.[/vc_column_text][/vc_column][/vc_row][vc_row row_type=”row” use_row_as_full_screen_section=”no” type=”full_width” text_align=”left” background_animation=”none” css_animation=””][vc_column width=”1/3″][/vc_column][vc_column width=”1/3″][vc_column_text] \nNEW APPLICANTS\n[/vc_column_text]APPLY FOR MEMBERSHIP[vc_empty_space height=”40px”][/vc_column][vc_column width=”1/3″][vc_column_text] \nCURRENT MEMBERS\n[/vc_column_text]SAVE YOUR SPOT[vc_empty_space height=”40px”][/vc_column][/vc_row]
URL:https://www.raeoflightministries.com/event/group-sacred-ceremony-sat-march-25-overnight-in-stanwood-wa/
LOCATION:Encinitas\, CA\, WA
CATEGORIES:Group Sacred Ceremonies
END:VEVENT
BEGIN:VEVENT
DTSTART;VALUE=DATE:20230324
DTEND;VALUE=DATE:20230325
DTSTAMP:20260423T163343
CREATED:20221229T022919Z
LAST-MODIFIED:20230301T044238Z
UID:10000447-1679616000-1679702399@www.raeoflightministries.com
SUMMARY:Group Sacred Ceremony Fri March 24 (overnight) in Seattle area (WA) (FULL-waitlist only)
DESCRIPTION:[vc_row row_type=”row” use_row_as_full_screen_section=”no” type=”full_width” text_align=”left” background_animation=”none” css_animation=””][vc_column][vc_column_text]This ceremony will be ministered by Kevin. Overnight group ceremony runs from 4:30pm to 11:00am the following morning (all participants are expected to stay for the entire duration until closing at 11am). \nThis is one ceremony offered in a weekend of two ceremonies (Friday night and Saturday night). Participating in two consecutive ceremonies has greater potential to facilitate awakening and deeper transformation\, however\, we recommend that participants follow their inner guidance whether to join us for one or two nights. \nNote: if this ceremony is listed as “FULL–waitlist only\,” please do NOT make a deposit to hold a spot. You may join the waiting list by sending an email to info@raeoflightministries.com. Thank you.[/vc_column_text][/vc_column][/vc_row][vc_row row_type=”row” use_row_as_full_screen_section=”no” type=”full_width” text_align=”left” background_animation=”none” css_animation=””][vc_column width=”1/3″][/vc_column][vc_column width=”1/3″][vc_column_text] \nNEW APPLICANTS\n[/vc_column_text]APPLY FOR MEMBERSHIP[vc_empty_space height=”40px”][/vc_column][vc_column width=”1/3″][vc_column_text] \nCURRENT MEMBERS\n[/vc_column_text]SAVE YOUR SPOT[vc_empty_space height=”40px”][/vc_column][/vc_row]
URL:https://www.raeoflightministries.com/event/group-sacred-ceremony-fri-march-24-overnight-in-stanwood-wa/
LOCATION:Encinitas\, CA\, WA
CATEGORIES:Group Sacred Ceremonies
END:VEVENT
BEGIN:VEVENT
DTSTART;VALUE=DATE:20230225
DTEND;VALUE=DATE:20230226
DTSTAMP:20260423T163343
CREATED:20221229T022846Z
LAST-MODIFIED:20230202T192828Z
UID:10000446-1677283200-1677369599@www.raeoflightministries.com
SUMMARY:Group Sacred Ceremony Sat February 25 (overnight) in Seattle area (WA)
DESCRIPTION:[vc_row row_type=”row” use_row_as_full_screen_section=”no” type=”full_width” text_align=”left” background_animation=”none” css_animation=””][vc_column][vc_column_text]This ceremony will be ministered by Kevin. Overnight group ceremony runs from 4:30pm to 11:00am the following morning (all participants are expected to stay for the entire duration until closing at 11am). \nThis is one ceremony offered in a weekend of two ceremonies (Friday night and Saturday night). Participating in two consecutive ceremonies has greater potential to facilitate awakening and deeper transformation\, however\, we recommend that participants follow their inner guidance whether to join us for one or two nights. \nNote: if this ceremony is listed as “FULL–waitlist only\,” please do NOT make a deposit to hold a spot. You may join the waiting list by sending an email to info@raeoflightministries.com. Thank you.[/vc_column_text][/vc_column][/vc_row][vc_row row_type=”row” use_row_as_full_screen_section=”no” type=”full_width” text_align=”left” background_animation=”none” css_animation=””][vc_column width=”1/3″][/vc_column][vc_column width=”1/3″][vc_column_text] \nNEW APPLICANTS\n[/vc_column_text]APPLY FOR MEMBERSHIP[vc_empty_space height=”40px”][/vc_column][vc_column width=”1/3″][vc_column_text] \nCURRENT MEMBERS\n[/vc_column_text]SAVE YOUR SPOT[vc_empty_space height=”40px”][/vc_column][/vc_row]
URL:https://www.raeoflightministries.com/event/group-sacred-ceremony-sat-february-25-overnight-in-stanwood-wa/
LOCATION:Encinitas\, CA\, WA
CATEGORIES:Group Sacred Ceremonies
END:VEVENT
BEGIN:VEVENT
DTSTART;VALUE=DATE:20230224
DTEND;VALUE=DATE:20230225
DTSTAMP:20260423T163343
CREATED:20221229T022805Z
LAST-MODIFIED:20230202T192915Z
UID:10000445-1677196800-1677283199@www.raeoflightministries.com
SUMMARY:Group Sacred Ceremony Fri February 24 (overnight) in Seattle area (WA)
DESCRIPTION:[vc_row row_type=”row” use_row_as_full_screen_section=”no” type=”full_width” text_align=”left” background_animation=”none” css_animation=””][vc_column][vc_column_text]This ceremony will be ministered by Kevin. Overnight group ceremony runs from 4:30pm to 11:00am the following morning (all participants are expected to stay for the entire duration until closing at 11am). \nThis is one ceremony offered in a weekend of two ceremonies (Friday night and Saturday night). Participating in two consecutive ceremonies has greater potential to facilitate awakening and deeper transformation\, however\, we recommend that participants follow their inner guidance whether to join us for one or two nights. \nNote: if this ceremony is listed as “FULL–waitlist only\,” please do NOT make a deposit to hold a spot. You may join the waiting list by sending an email to info@raeoflightministries.com. Thank you.[/vc_column_text][/vc_column][/vc_row][vc_row row_type=”row” use_row_as_full_screen_section=”no” type=”full_width” text_align=”left” background_animation=”none” css_animation=””][vc_column width=”1/3″][/vc_column][vc_column width=”1/3″][vc_column_text] \nNEW APPLICANTS\n[/vc_column_text]APPLY FOR MEMBERSHIP[vc_empty_space height=”40px”][/vc_column][vc_column width=”1/3″][vc_column_text] \nCURRENT MEMBERS\n[/vc_column_text]SAVE YOUR SPOT[vc_empty_space height=”40px”][/vc_column][/vc_row]
URL:https://www.raeoflightministries.com/event/group-sacred-ceremony-fri-february-24-overnight-in-stanwood-wa/
LOCATION:Encinitas\, CA\, WA
CATEGORIES:Group Sacred Ceremonies
END:VEVENT
END:VCALENDAR